BEGIN:VCALENDAR
VERSION:2.0
PRODID:-//Ugpi&#039;Ganjig - ECPv5.16.4//NONSGML v1.0//EN
CALSCALE:GREGORIAN
METHOD:PUBLISH
X-WR-CALNAME:Ugpi&#039;Ganjig
X-ORIGINAL-URL:https://ugpi-ganjig.ca
X-WR-CALDESC:Events for Ugpi&#039;Ganjig
BEGIN:VTIMEZONE
TZID:America/Halifax
BEGIN:DAYLIGHT
TZOFFSETFROM:-0400
TZOFFSETTO:-0300
TZNAME:ADT
DTSTART:20250309T060000
END:DAYLIGHT
BEGIN:STANDARD
TZOFFSETFROM:-0300
TZOFFSETTO:-0400
TZNAME:AST
DTSTART:20251102T050000
END:STANDARD
END:VTIMEZONE
BEGIN:VEVENT
DTSTART;TZID=America/Halifax:20251121T090000
DTEND;TZID=America/Halifax:20251121T090000
DTSTAMP:20260421T080810
CREATED:20251120T143708Z
LAST-MODIFIED:20251120T143708Z
UID:226650-1763715600-1763715600@ugpi-ganjig.ca
SUMMARY:Basket Making With Stephen Jerome
DESCRIPTION: Basket Making with Stephen Jerome!\n\nJoin us at the Heritage Gardens for a hands-on basket making workshop with Stephen Jerome.\n\nThere will be two sessions:9:00 AM1:00 PM\n\n To register\, please contact Susan LaBillois at 506-685-0770.Please note: Preference will be given to participants who have not taken the class before.\n\nCome learn\, create\, and connect! 
URL:https://ugpi-ganjig.ca/event/basket-making-with-stephen-jerome/
LOCATION:Aboriginal Heritage Garden
CATEGORIES:Community
ATTACH;FMTTYPE=image/png:https://ugpi-ganjig.ca/wp-content/uploads/2025/11/Heading-1.png
END:VEVENT
END:VCALENDAR