BEGIN:VCALENDAR
VERSION:2.0
PRODID:-//Ugpi&#039;Ganjig - ECPv5.16.4//NONSGML v1.0//EN
CALSCALE:GREGORIAN
METHOD:PUBLISH
X-WR-CALNAME:Ugpi&#039;Ganjig
X-ORIGINAL-URL:https://ugpi-ganjig.ca
X-WR-CALDESC:Events for Ugpi&#039;Ganjig
BEGIN:VTIMEZONE
TZID:America/Halifax
BEGIN:DAYLIGHT
TZOFFSETFROM:-0400
TZOFFSETTO:-0300
TZNAME:ADT
DTSTART:20240310T060000
END:DAYLIGHT
BEGIN:STANDARD
TZOFFSETFROM:-0300
TZOFFSETTO:-0400
TZNAME:AST
DTSTART:20241103T050000
END:STANDARD
END:VTIMEZONE
BEGIN:VEVENT
DTSTART;TZID=America/Halifax:20241112T163000
DTEND;TZID=America/Halifax:20241112T233000
DTSTAMP:20260419T131223
CREATED:20241119T182904Z
LAST-MODIFIED:20241119T182904Z
UID:190500-1731429000-1731454200@ugpi-ganjig.ca
SUMMARY:COMMUNITY EVENT MOOSE STEW & Distribution 4:30pm Elders Room Please see info on Band Office FB Page
DESCRIPTION:
URL:https://ugpi-ganjig.ca/event/community-event-moose-stew-distribution-430pm-elders-room-please-see-info-on-band-office-fb-page/
CATEGORIES:Ugpi'ganjig Health Centre
END:VEVENT
END:VCALENDAR