BEGIN:VCALENDAR
VERSION:2.0
PRODID:-//Ugpi&#039;Ganjig - ECPv5.16.4//NONSGML v1.0//EN
CALSCALE:GREGORIAN
METHOD:PUBLISH
X-WR-CALNAME:Ugpi&#039;Ganjig
X-ORIGINAL-URL:https://ugpi-ganjig.ca
X-WR-CALDESC:Events for Ugpi&#039;Ganjig
BEGIN:VTIMEZONE
TZID:America/Halifax
BEGIN:DAYLIGHT
TZOFFSETFROM:-0400
TZOFFSETTO:-0300
TZNAME:ADT
DTSTART:20240310T060000
END:DAYLIGHT
BEGIN:STANDARD
TZOFFSETFROM:-0300
TZOFFSETTO:-0400
TZNAME:AST
DTSTART:20241103T050000
END:STANDARD
END:VTIMEZONE
BEGIN:VEVENT
DTSTART;TZID=America/Halifax:20241129T090000
DTEND;TZID=America/Halifax:20241129T100000
DTSTAMP:20260419T145715
CREATED:20241119T185947Z
LAST-MODIFIED:20241119T185947Z
UID:190519-1732870800-1732874400@ugpi-ganjig.ca
SUMMARY:Community Healthy Breakfast & Grocery Bingo(World Diabetes Month) with Raven LaBillois 9am-Breakfast 10am-BINGO
DESCRIPTION:
URL:https://ugpi-ganjig.ca/event/community-healthy-breakfast-grocery-bingoworld-diabetes-month-with-raven-labillois-9am-breakfast-10am-bingo/
CATEGORIES:Ugpi'ganjig Health Centre
END:VEVENT
END:VCALENDAR