BEGIN:VCALENDAR
VERSION:2.0
PRODID:-//Ugpi&#039;Ganjig - ECPv5.16.4//NONSGML v1.0//EN
CALSCALE:GREGORIAN
METHOD:PUBLISH
X-WR-CALNAME:Ugpi&#039;Ganjig
X-ORIGINAL-URL:https://ugpi-ganjig.ca
X-WR-CALDESC:Events for Ugpi&#039;Ganjig
BEGIN:VTIMEZONE
TZID:America/Halifax
BEGIN:DAYLIGHT
TZOFFSETFROM:-0400
TZOFFSETTO:-0300
TZNAME:ADT
DTSTART:20220313T060000
END:DAYLIGHT
BEGIN:STANDARD
TZOFFSETFROM:-0300
TZOFFSETTO:-0400
TZNAME:AST
DTSTART:20221106T050000
END:STANDARD
END:VTIMEZONE
BEGIN:VEVENT
DTSTART;VALUE=DATE:20220416
DTEND;VALUE=DATE:20220424
DTSTAMP:20260421T150034
CREATED:20220413T175212Z
LAST-MODIFIED:20220413T175212Z
UID:90977-1650088800-1650693599@ugpi-ganjig.ca
SUMMARY:Community Invitation - University of Saskatchewan Indigenous Land-Based Masters Cohort
DESCRIPTION:
URL:https://ugpi-ganjig.ca/event/community-invitation-university-of-saskatchewan-indigenous-land-based-masters-cohort/
LOCATION:Aboriginal Heritage Garden
CATEGORIES:External
ATTACH;FMTTYPE=image/jpeg:https://ugpi-ganjig.ca/wp-content/uploads/2022/04/Lang-Based-Cohort.jpg
END:VEVENT
END:VCALENDAR