BEGIN:VCALENDAR
VERSION:2.0
PRODID:-//Ugpi&#039;Ganjig - ECPv5.16.4//NONSGML v1.0//EN
CALSCALE:GREGORIAN
METHOD:PUBLISH
X-WR-CALNAME:Ugpi&#039;Ganjig
X-ORIGINAL-URL:https://ugpi-ganjig.ca
X-WR-CALDESC:Events for Ugpi&#039;Ganjig
BEGIN:VTIMEZONE
TZID:America/Halifax
BEGIN:DAYLIGHT
TZOFFSETFROM:-0400
TZOFFSETTO:-0300
TZNAME:ADT
DTSTART:20250309T060000
END:DAYLIGHT
BEGIN:STANDARD
TZOFFSETFROM:-0300
TZOFFSETTO:-0400
TZNAME:AST
DTSTART:20251102T050000
END:STANDARD
END:VTIMEZONE
BEGIN:VEVENT
DTSTART;TZID=America/Halifax:20251023T180000
DTEND;TZID=America/Halifax:20251023T180000
DTSTAMP:20260420T045235
CREATED:20251019T210055Z
LAST-MODIFIED:20251021T162737Z
UID:221813-1761242400-1761242400@ugpi-ganjig.ca
SUMMARY:Community Moose Hunt Information Meeting
DESCRIPTION:It’s that time of year again! Join us in a meeting for this year’s Moose Hunt\, where we’ll be going over important details for the upcoming hunt.\n\nWe’ll share updates\, review rules and safety information\, and make sure everyone is prepared for a successful and safe hunt. Merch will also be available at the meeting — come early to grab your gear!\n\nThis is an important gathering for all participants\, so please make sure to attend.
URL:https://ugpi-ganjig.ca/event/community-moose-hunt-info-registration-meeting/
LOCATION:Alex Miller Hall
CATEGORIES:Community
ATTACH;FMTTYPE=image/png:https://ugpi-ganjig.ca/wp-content/uploads/2025/10/Ugpiganjig-Admin-14.png
END:VEVENT
END:VCALENDAR