BEGIN:VCALENDAR
VERSION:2.0
PRODID:-//Ugpi&#039;Ganjig - ECPv5.16.4//NONSGML v1.0//EN
CALSCALE:GREGORIAN
METHOD:PUBLISH
X-WR-CALNAME:Ugpi&#039;Ganjig
X-ORIGINAL-URL:https://ugpi-ganjig.ca
X-WR-CALDESC:Events for Ugpi&#039;Ganjig
BEGIN:VTIMEZONE
TZID:America/Halifax
BEGIN:DAYLIGHT
TZOFFSETFROM:-0400
TZOFFSETTO:-0300
TZNAME:ADT
DTSTART:20250309T060000
END:DAYLIGHT
BEGIN:STANDARD
TZOFFSETFROM:-0300
TZOFFSETTO:-0400
TZNAME:AST
DTSTART:20251102T050000
END:STANDARD
END:VTIMEZONE
BEGIN:VEVENT
DTSTART;VALUE=DATE:20251024
DTEND;VALUE=DATE:20251027
DTSTAMP:20260420T061616
CREATED:20251002T142309Z
LAST-MODIFIED:20251002T142309Z
UID:221807-1761285600-1761458399@ugpi-ganjig.ca
SUMMARY:Community Moose Hunt
DESCRIPTION:The 2025 Community Moose Hunt will be more than just a harvest — it will be a time for our people to gather in the spirit of tradition and community.\n\n“The intent is to provide food security for our community members\, in a way that both brings us together and honours our traditional way of living.” – Councillor Daniel Caplin\n\nThis year\, we look forward to welcoming community members to take part in our annual Community Moose Hunt. Together\, we hope to be blessed with moose that will be shared among families\, ensuring the hunt continues to provide for our people while strengthening the bonds that unite us.\n\n Moose Hunt Dates: October 24–25 Location: Moose Meadow
URL:https://ugpi-ganjig.ca/event/community-moose-hunt/
LOCATION:Moose Meadow
CATEGORIES:Community
ATTACH;FMTTYPE=image/png:https://ugpi-ganjig.ca/wp-content/uploads/2025/10/Ugpiganjig-Holidays-and-fun-9.png
END:VEVENT
END:VCALENDAR