BEGIN:VCALENDAR
VERSION:2.0
PRODID:-//Ugpi&#039;Ganjig - ECPv5.16.4//NONSGML v1.0//EN
CALSCALE:GREGORIAN
METHOD:PUBLISH
X-WR-CALNAME:Ugpi&#039;Ganjig
X-ORIGINAL-URL:https://ugpi-ganjig.ca
X-WR-CALDESC:Events for Ugpi&#039;Ganjig
BEGIN:VTIMEZONE
TZID:America/Halifax
BEGIN:DAYLIGHT
TZOFFSETFROM:-0400
TZOFFSETTO:-0300
TZNAME:ADT
DTSTART:20220313T060000
END:DAYLIGHT
BEGIN:STANDARD
TZOFFSETFROM:-0300
TZOFFSETTO:-0400
TZNAME:AST
DTSTART:20221106T050000
END:STANDARD
END:VTIMEZONE
BEGIN:VEVENT
DTSTART;TZID=America/Halifax:20220516T080000
DTEND;TZID=America/Halifax:20220519T170000
DTSTAMP:20260421T131612
CREATED:20220407T125828Z
LAST-MODIFIED:20220407T125857Z
UID:90378-1652688000-1652979600@ugpi-ganjig.ca
SUMMARY:Community Spring Clean-up
DESCRIPTION:
URL:https://ugpi-ganjig.ca/event/community-spring-clean-up/
CATEGORIES:Administration
END:VEVENT
END:VCALENDAR