BEGIN:VCALENDAR
VERSION:2.0
PRODID:-//Ugpi&#039;Ganjig - ECPv5.16.4//NONSGML v1.0//EN
CALSCALE:GREGORIAN
METHOD:PUBLISH
X-WR-CALNAME:Ugpi&#039;Ganjig
X-ORIGINAL-URL:https://ugpi-ganjig.ca
X-WR-CALDESC:Events for Ugpi&#039;Ganjig
BEGIN:VTIMEZONE
TZID:America/Halifax
BEGIN:DAYLIGHT
TZOFFSETFROM:-0400
TZOFFSETTO:-0300
TZNAME:ADT
DTSTART:20250309T060000
END:DAYLIGHT
BEGIN:STANDARD
TZOFFSETFROM:-0300
TZOFFSETTO:-0400
TZNAME:AST
DTSTART:20251102T050000
END:STANDARD
END:VTIMEZONE
BEGIN:VEVENT
DTSTART;TZID=America/Halifax:20251201T160000
DTEND;TZID=America/Halifax:20251201T160000
DTSTAMP:20260423T050845
CREATED:20251112T184023Z
LAST-MODIFIED:20251112T184023Z
UID:225867-1764604800-1764604800@ugpi-ganjig.ca
SUMMARY:Eel River Bar Annual Christmas Parade
DESCRIPTION:Join us for a magical afternoon of lights\, music\, and holiday cheer!\n\nParade route:\nBand Hall • Olympic Dr • Beach Dr • Main St • Dam Rd • Berry Rd • Sunset Subdivision • Cedar Dr • Main St • Ranch St to Julian • Smak’nis • Awti’gig • Hawk • Miller rd • Alder ln • Poplar ave • Band Hall
URL:https://ugpi-ganjig.ca/event/eel-river-bar-annual-christmas-parade/
LOCATION:Band Hall
CATEGORIES:Community
ATTACH;FMTTYPE=image/png:https://ugpi-ganjig.ca/wp-content/uploads/2025/11/Christmas-Parade-2.png
END:VEVENT
END:VCALENDAR