BEGIN:VCALENDAR
VERSION:2.0
PRODID:-//Ugpi&#039;Ganjig - ECPv5.16.4//NONSGML v1.0//EN
CALSCALE:GREGORIAN
METHOD:PUBLISH
X-WR-CALNAME:Ugpi&#039;Ganjig
X-ORIGINAL-URL:https://ugpi-ganjig.ca
X-WR-CALDESC:Events for Ugpi&#039;Ganjig
BEGIN:VTIMEZONE
TZID:America/Halifax
BEGIN:DAYLIGHT
TZOFFSETFROM:-0400
TZOFFSETTO:-0300
TZNAME:ADT
DTSTART:20230312T060000
END:DAYLIGHT
BEGIN:STANDARD
TZOFFSETFROM:-0300
TZOFFSETTO:-0400
TZNAME:AST
DTSTART:20231105T050000
END:STANDARD
END:VTIMEZONE
BEGIN:VEVENT
DTSTART;VALUE=DATE:20230818
DTEND;VALUE=DATE:20230822
DTSTAMP:20260419T121102
CREATED:20230816T142631Z
LAST-MODIFIED:20230818T151635Z
UID:143490-1692338400-1692597599@ugpi-ganjig.ca
SUMMARY:Eel River Bar Pow Wow (Inch Arran Arena\, Dalhousie)
DESCRIPTION:Schedule for Eel River Bar Pow Wow 2023\nFriday August 18th \nSet up for vendors \n  \nSaturday August 19th \n\n8:00AM-9:30AM Breakfast at Heritage Garden Building\n12:00PM – Singer/Dancer Registration Opens (ERB members don’t need to register)\n1:00PM sharp – Grand Entry\n2:00PM- Draw out of a Hat Special begins (dancers 16+ stay ready all day)\n3:00PM- Candy Dance\n3:15PM – Honour Song for the families in community that lost loved ones\n4:00PM – Dancers under 15 exhibition\n5:00PM – Break for Supper\n6:45PM – Evening Session Begins 2nd song winner take all dance specials  Charlie Jij Levi Memorial 4 Man Special\, 1st song straight song 2nd song anything but a straight 1st – $1500 2nd – $1000 3rd – $500  End of Day 1\n\n  \nSunday August 20th \n\n8:00AM-9:30AM Breakfast at Heritage Garden Building 11:30AM – Registration for Singers/Dancers (dancers from ERB don’t need to register)\n12:00PM sharp – Grand Entry\n1:00PM – Candy Dance\n2:00PM- Dance Exhibitions (honorariums being handed out\, except ERB dancers will have a gift for you all at a later date)\n3:30PM- Giveaway\n4:00PM – Grand Exit  Safe Travels to all\, we’re looking forward to hosting you!
URL:https://ugpi-ganjig.ca/event/eel-river-bar-pow-wow/
LOCATION:Inch-Arran Arena\, Dalhousie\, 120 Inch Arran Ave\, Dalhousie\, New Brunswick\, E8C 1X2\, Canada
ATTACH;FMTTYPE=image/png:https://ugpi-ganjig.ca/wp-content/uploads/2023/08/b32f8a86cd8272e8c83f23a560e26902.png
END:VEVENT
END:VCALENDAR