BEGIN:VCALENDAR
VERSION:2.0
PRODID:-//Ugpi&#039;Ganjig - ECPv5.16.4//NONSGML v1.0//EN
CALSCALE:GREGORIAN
METHOD:PUBLISH
X-WR-CALNAME:Ugpi&#039;Ganjig
X-ORIGINAL-URL:https://ugpi-ganjig.ca
X-WR-CALDESC:Events for Ugpi&#039;Ganjig
BEGIN:VTIMEZONE
TZID:America/Halifax
BEGIN:DAYLIGHT
TZOFFSETFROM:-0400
TZOFFSETTO:-0300
TZNAME:ADT
DTSTART:20220313T060000
END:DAYLIGHT
BEGIN:STANDARD
TZOFFSETFROM:-0300
TZOFFSETTO:-0400
TZNAME:AST
DTSTART:20221106T050000
END:STANDARD
END:VTIMEZONE
BEGIN:VEVENT
DTSTART;TZID=America/Halifax:20220615T160000
DTEND;TZID=America/Halifax:20220615T180000
DTSTAMP:20260421T130203
CREATED:20220601T170848Z
LAST-MODIFIED:20220601T170848Z
UID:95703-1655308800-1655316000@ugpi-ganjig.ca
SUMMARY:Graduation Banquet
DESCRIPTION:
URL:https://ugpi-ganjig.ca/event/graduation-banquet/
LOCATION:Aboriginal Heritage Garden
ATTACH;FMTTYPE=image/jpeg:https://ugpi-ganjig.ca/wp-content/uploads/2021/08/education-logo.jpg
END:VEVENT
END:VCALENDAR