BEGIN:VCALENDAR
VERSION:2.0
PRODID:-//Ugpi&#039;Ganjig - ECPv5.16.4//NONSGML v1.0//EN
CALSCALE:GREGORIAN
METHOD:PUBLISH
X-WR-CALNAME:Ugpi&#039;Ganjig
X-ORIGINAL-URL:https://ugpi-ganjig.ca
X-WR-CALDESC:Events for Ugpi&#039;Ganjig
BEGIN:VTIMEZONE
TZID:America/Halifax
BEGIN:DAYLIGHT
TZOFFSETFROM:-0400
TZOFFSETTO:-0300
TZNAME:ADT
DTSTART:20200308T060000
END:DAYLIGHT
BEGIN:STANDARD
TZOFFSETFROM:-0300
TZOFFSETTO:-0400
TZNAME:AST
DTSTART:20201101T050000
END:STANDARD
END:VTIMEZONE
BEGIN:VEVENT
DTSTART;TZID=America/Halifax:20200304T100000
DTEND;TZID=America/Halifax:20200304T140000
DTSTAMP:20260422T013621
CREATED:20200227T194442Z
LAST-MODIFIED:20200227T194442Z
UID:12626-1583316000-1583330400@ugpi-ganjig.ca
SUMMARY:Maternity and Child Health Day
DESCRIPTION:The Nurture the Seed Project will be hosting a Maternal and Child Health Day on March 4th in the ERB  \ngymnasium from 10 a.m. to 2 p.m. This being focused for families with children ranging 0 to 6 years old. \nFamilies will have the opportunity to participate in activities together. Lunch and snacks will be provided to those attending. This event aims to strengthen the bond between caregiver and child. \nThose present will be entered to win a door prize. Nurture the Seed will also be providing pamphlets to those in attendance so they can learn more about the purpose of the project and its goals. \nWela’lioq
URL:https://ugpi-ganjig.ca/event/maternity-and-child-health-day/
LOCATION:Band Office-Gymnasium
END:VEVENT
END:VCALENDAR