BEGIN:VCALENDAR
VERSION:2.0
PRODID:-//Ugpi&#039;Ganjig - ECPv5.16.4//NONSGML v1.0//EN
CALSCALE:GREGORIAN
METHOD:PUBLISH
X-WR-CALNAME:Ugpi&#039;Ganjig
X-ORIGINAL-URL:https://ugpi-ganjig.ca
X-WR-CALDESC:Events for Ugpi&#039;Ganjig
BEGIN:VTIMEZONE
TZID:America/Halifax
BEGIN:DAYLIGHT
TZOFFSETFROM:-0400
TZOFFSETTO:-0300
TZNAME:ADT
DTSTART:20240310T060000
END:DAYLIGHT
BEGIN:STANDARD
TZOFFSETFROM:-0300
TZOFFSETTO:-0400
TZNAME:AST
DTSTART:20241103T050000
END:STANDARD
END:VTIMEZONE
BEGIN:VEVENT
DTSTART;VALUE=DATE:20241218
DTEND;VALUE=DATE:20241220
DTSTAMP:20260419T145642
CREATED:20241205T104315Z
LAST-MODIFIED:20241205T104315Z
UID:192047-1734501600-1734587999@ugpi-ganjig.ca
SUMMARY:Men's night activity (Daniel Caplin and Chris George) More info to be posted on ERB page
DESCRIPTION:Men’s night activity\n(Daniel Caplin and Chris George)\nMore info to be posted\non ERB page
URL:https://ugpi-ganjig.ca/event/mens-night-activity-daniel-caplin-and-chris-george-more-info-to-be-posted-on-erb-page/
CATEGORIES:Ugpi'ganjig Health Centre
END:VEVENT
END:VCALENDAR