BEGIN:VCALENDAR
VERSION:2.0
PRODID:-//Ugpi&#039;Ganjig - ECPv5.16.4//NONSGML v1.0//EN
CALSCALE:GREGORIAN
METHOD:PUBLISH
X-WR-CALNAME:Ugpi&#039;Ganjig
X-ORIGINAL-URL:https://ugpi-ganjig.ca
X-WR-CALDESC:Events for Ugpi&#039;Ganjig
BEGIN:VTIMEZONE
TZID:America/Halifax
BEGIN:DAYLIGHT
TZOFFSETFROM:-0400
TZOFFSETTO:-0300
TZNAME:ADT
DTSTART:20240310T060000
END:DAYLIGHT
BEGIN:STANDARD
TZOFFSETFROM:-0300
TZOFFSETTO:-0400
TZNAME:AST
DTSTART:20241103T050000
END:STANDARD
END:VTIMEZONE
BEGIN:VEVENT
DTSTART;TZID=America/Halifax:20241015T190000
DTEND;TZID=America/Halifax:20241015T190000
DTSTAMP:20260421T065213
CREATED:20241017T160421Z
LAST-MODIFIED:20241017T160421Z
UID:187255-1729018800-1729018800@ugpi-ganjig.ca
SUMMARY:Pregnancy and Infant Loss Day
DESCRIPTION:Wave of light \n7pm \nCandles at HC (limited supplies)
URL:https://ugpi-ganjig.ca/event/pregnancy-and-infant-loss-day/
END:VEVENT
END:VCALENDAR