BEGIN:VCALENDAR
VERSION:2.0
PRODID:-//Ugpi&#039;Ganjig - ECPv5.16.4//NONSGML v1.0//EN
CALSCALE:GREGORIAN
METHOD:PUBLISH
X-WR-CALNAME:Ugpi&#039;Ganjig
X-ORIGINAL-URL:https://ugpi-ganjig.ca
X-WR-CALDESC:Events for Ugpi&#039;Ganjig
BEGIN:VTIMEZONE
TZID:America/Halifax
BEGIN:DAYLIGHT
TZOFFSETFROM:-0400
TZOFFSETTO:-0300
TZNAME:ADT
DTSTART:20200308T060000
END:DAYLIGHT
BEGIN:STANDARD
TZOFFSETFROM:-0300
TZOFFSETTO:-0400
TZNAME:AST
DTSTART:20201101T050000
END:STANDARD
END:VTIMEZONE
BEGIN:VEVENT
DTSTART;TZID=America/Halifax:20200318T180000
DTEND;TZID=America/Halifax:20200318T200000
DTSTAMP:20260421T203037
CREATED:20200311T135427Z
LAST-MODIFIED:20200311T135427Z
UID:13656-1584554400-1584561600@ugpi-ganjig.ca
SUMMARY:Ribbon Shirt & Skirt Making
DESCRIPTION:The Ugpi’ganjig Elders in association with Leadership are offering an evening class to make a ribbon shirt or skirt\, on march 18th and 24th from 6-8 p.m. in the elder’s room. Adults ages 20+ may register their names at the health center\, and children from grades 6-12 may register through leadership. Please let the group you are registering through know whether you are making a shirt or skirt.
URL:https://ugpi-ganjig.ca/event/ribbon-shirt-skirt-making/
LOCATION:Band Office – Elder’s Room
END:VEVENT
END:VCALENDAR