BEGIN:VCALENDAR
VERSION:2.0
PRODID:-//Ugpi&#039;Ganjig - ECPv5.16.4//NONSGML v1.0//EN
CALSCALE:GREGORIAN
METHOD:PUBLISH
X-WR-CALNAME:Ugpi&#039;Ganjig
X-ORIGINAL-URL:https://ugpi-ganjig.ca
X-WR-CALDESC:Events for Ugpi&#039;Ganjig
BEGIN:VTIMEZONE
TZID:America/Halifax
BEGIN:DAYLIGHT
TZOFFSETFROM:-0400
TZOFFSETTO:-0300
TZNAME:ADT
DTSTART:20240310T060000
END:DAYLIGHT
BEGIN:STANDARD
TZOFFSETFROM:-0300
TZOFFSETTO:-0400
TZNAME:AST
DTSTART:20241103T050000
END:STANDARD
END:VTIMEZONE
BEGIN:VEVENT
DTSTART;VALUE=DATE:20241120
DTEND;VALUE=DATE:20241122
DTSTAMP:20260419T130905
CREATED:20241119T183312Z
LAST-MODIFIED:20241119T183312Z
UID:190505-1732082400-1732168799@ugpi-ganjig.ca
SUMMARY:Reclaiming Spaces 10-12pm Baby Massage:  1-3pm Must register
DESCRIPTION:
URL:https://ugpi-ganjig.ca/event/reclaiming-spaces-10-12pm-baby-massage-1-3pm-must-register/
CATEGORIES:Ugpi'ganjig Health Centre
END:VEVENT
END:VCALENDAR