BEGIN:VCALENDAR
VERSION:2.0
PRODID:-//Ugpi&#039;Ganjig - ECPv5.16.4//NONSGML v1.0//EN
CALSCALE:GREGORIAN
METHOD:PUBLISH
X-WR-CALNAME:Ugpi&#039;Ganjig
X-ORIGINAL-URL:https://ugpi-ganjig.ca
X-WR-CALDESC:Events for Ugpi&#039;Ganjig
BEGIN:VTIMEZONE
TZID:America/Halifax
BEGIN:DAYLIGHT
TZOFFSETFROM:-0400
TZOFFSETTO:-0300
TZNAME:ADT
DTSTART:20240310T060000
END:DAYLIGHT
BEGIN:STANDARD
TZOFFSETFROM:-0300
TZOFFSETTO:-0400
TZNAME:AST
DTSTART:20241103T050000
END:STANDARD
END:VTIMEZONE
BEGIN:VEVENT
DTSTART;TZID=America/Halifax:20241204T100000
DTEND;TZID=America/Halifax:20241204T140000
DTSTAMP:20260419T143330
CREATED:20241205T095832Z
LAST-MODIFIED:20241205T095935Z
UID:192024-1733306400-1733320800@ugpi-ganjig.ca
SUMMARY:Reclaiming Spaces 10-12pm    Baby Massage: 1-2pm        ** Must register
DESCRIPTION:Reclaiming Spaces 10-12pm \nBaby Massage: 1-2pm \n** Must register
URL:https://ugpi-ganjig.ca/event/reclaiming-spaces-10-12pm/
CATEGORIES:Ugpi'ganjig Health Centre
END:VEVENT
END:VCALENDAR