BEGIN:VCALENDAR
VERSION:2.0
PRODID:-//Ugpi&#039;Ganjig - ECPv5.16.4//NONSGML v1.0//EN
CALSCALE:GREGORIAN
METHOD:PUBLISH
X-WR-CALNAME:Ugpi&#039;Ganjig
X-ORIGINAL-URL:https://ugpi-ganjig.ca
X-WR-CALDESC:Events for Ugpi&#039;Ganjig
BEGIN:VTIMEZONE
TZID:America/Halifax
BEGIN:DAYLIGHT
TZOFFSETFROM:-0400
TZOFFSETTO:-0300
TZNAME:ADT
DTSTART:20240310T060000
END:DAYLIGHT
BEGIN:STANDARD
TZOFFSETFROM:-0300
TZOFFSETTO:-0400
TZNAME:AST
DTSTART:20241103T050000
END:STANDARD
END:VTIMEZONE
BEGIN:VEVENT
DTSTART;TZID=America/Halifax:20241205T130000
DTEND;TZID=America/Halifax:20241205T160000
DTSTAMP:20260419T143534
CREATED:20241205T100145Z
LAST-MODIFIED:20241205T100145Z
UID:192029-1733403600-1733414400@ugpi-ganjig.ca
SUMMARY:Dr Clinic- 1-4pm       *Appointment needed*
DESCRIPTION:Dr Clinic- 1-4pm\n*Appointment needed*
URL:https://ugpi-ganjig.ca/event/dr-clinic-1-4pm-appointment-needed/
CATEGORIES:Ugpi'ganjig Health Centre
END:VEVENT
END:VCALENDAR