BEGIN:VCALENDAR
VERSION:2.0
PRODID:-//Ugpi&#039;Ganjig - ECPv5.16.4//NONSGML v1.0//EN
CALSCALE:GREGORIAN
METHOD:PUBLISH
X-WR-CALNAME:Ugpi&#039;Ganjig
X-ORIGINAL-URL:https://ugpi-ganjig.ca
X-WR-CALDESC:Events for Ugpi&#039;Ganjig
BEGIN:VTIMEZONE
TZID:America/Halifax
BEGIN:DAYLIGHT
TZOFFSETFROM:-0400
TZOFFSETTO:-0300
TZNAME:ADT
DTSTART:20240310T060000
END:DAYLIGHT
BEGIN:STANDARD
TZOFFSETFROM:-0300
TZOFFSETTO:-0400
TZNAME:AST
DTSTART:20241103T050000
END:STANDARD
END:VTIMEZONE
BEGIN:VEVENT
DTSTART;VALUE=DATE:20241220
DTEND;VALUE=DATE:20241222
DTSTAMP:20260419T143528
CREATED:20241205T105309Z
LAST-MODIFIED:20241205T105309Z
UID:192054-1734674400-1734760799@ugpi-ganjig.ca
SUMMARY:Office closed for the Holidays! (This includes Band operations and Health Centre* Daycare and Leadership closed)
DESCRIPTION:Office closed for the Holidays!\n(This includes Band operations and Health Centre* Daycare and Leadership closed)
URL:https://ugpi-ganjig.ca/event/office-closed-for-the-holidays-this-includes-band-operations-and-health-centre-daycare-and-leadership-closed/
CATEGORIES:Ugpi'ganjig Health Centre
END:VEVENT
END:VCALENDAR