BEGIN:VCALENDAR
VERSION:2.0
PRODID:-//Ugpi&#039;Ganjig - ECPv5.16.4//NONSGML v1.0//EN
CALSCALE:GREGORIAN
METHOD:PUBLISH
X-WR-CALNAME:Ugpi&#039;Ganjig
X-ORIGINAL-URL:https://ugpi-ganjig.ca
X-WR-CALDESC:Events for Ugpi&#039;Ganjig
BEGIN:VTIMEZONE
TZID:America/Halifax
BEGIN:DAYLIGHT
TZOFFSETFROM:-0400
TZOFFSETTO:-0300
TZNAME:ADT
DTSTART:20250309T060000
END:DAYLIGHT
BEGIN:STANDARD
TZOFFSETFROM:-0300
TZOFFSETTO:-0400
TZNAME:AST
DTSTART:20251102T050000
END:STANDARD
END:VTIMEZONE
BEGIN:VEVENT
DTSTART;TZID=America/Halifax:20250821T130000
DTEND;TZID=America/Halifax:20250821T150000
DTSTAMP:20260420T030415
CREATED:20250819T194150Z
LAST-MODIFIED:20250819T194150Z
UID:217436-1755781200-1755788400@ugpi-ganjig.ca
SUMMARY:Community Engagement Session - Mi'gmaq Justice Initiative
DESCRIPTION:
URL:https://ugpi-ganjig.ca/event/community-engagement-session-migmaq-justice-initiative/
LOCATION:Elder’s Room
END:VEVENT
END:VCALENDAR