BEGIN:VCALENDAR
VERSION:2.0
PRODID:-//Ugpi&#039;Ganjig - ECPv5.16.4//NONSGML v1.0//EN
CALSCALE:GREGORIAN
METHOD:PUBLISH
X-WR-CALNAME:Ugpi&#039;Ganjig
X-ORIGINAL-URL:https://ugpi-ganjig.ca
X-WR-CALDESC:Events for Ugpi&#039;Ganjig
BEGIN:VTIMEZONE
TZID:America/Halifax
BEGIN:DAYLIGHT
TZOFFSETFROM:-0400
TZOFFSETTO:-0300
TZNAME:ADT
DTSTART:20250309T060000
END:DAYLIGHT
BEGIN:STANDARD
TZOFFSETFROM:-0300
TZOFFSETTO:-0400
TZNAME:AST
DTSTART:20251102T050000
END:STANDARD
END:VTIMEZONE
BEGIN:VEVENT
DTSTART;TZID=America/Halifax:20251111T150000
DTEND;TZID=America/Halifax:20251111T150000
DTSTAMP:20260421T025945
CREATED:20251110T154743Z
LAST-MODIFIED:20251110T154743Z
UID:225654-1762873200-1762873200@ugpi-ganjig.ca
SUMMARY:Community Remembrance Day Ceremony
DESCRIPTION:Community Remembrance Day CeremonyNov 11th • 3pm • Alex Miller Hall\nA light supper will be served.
URL:https://ugpi-ganjig.ca/event/community-remembrance-day-ceremony/
LOCATION:Alex Miller Hall
CATEGORIES:Community
ATTACH;FMTTYPE=image/jpeg:https://ugpi-ganjig.ca/wp-content/uploads/2025/11/576447173_1228797965951821_6278963549475080704_n.jpg
END:VEVENT
END:VCALENDAR