BEGIN:VCALENDAR
VERSION:2.0
PRODID:-//Ugpi&#039;Ganjig - ECPv5.16.4//NONSGML v1.0//EN
CALSCALE:GREGORIAN
METHOD:PUBLISH
X-WR-CALNAME:Ugpi&#039;Ganjig
X-ORIGINAL-URL:https://ugpi-ganjig.ca
X-WR-CALDESC:Events for Ugpi&#039;Ganjig
BEGIN:VTIMEZONE
TZID:America/Halifax
BEGIN:DAYLIGHT
TZOFFSETFROM:-0400
TZOFFSETTO:-0300
TZNAME:ADT
DTSTART:20250309T060000
END:DAYLIGHT
BEGIN:STANDARD
TZOFFSETFROM:-0300
TZOFFSETTO:-0400
TZNAME:AST
DTSTART:20251102T050000
END:STANDARD
END:VTIMEZONE
BEGIN:VEVENT
DTSTART;TZID=America/Halifax:20251116T140000
DTEND;TZID=America/Halifax:20251116T140000
DTSTAMP:20260421T082057
CREATED:20251008T144233Z
LAST-MODIFIED:20251008T144233Z
UID:222404-1763301600-1763301600@ugpi-ganjig.ca
SUMMARY:Ugpi'ganjig Variety Show
DESCRIPTION:Please join us in showcasing the amazing young talent we have in the community to kick off addictions awareness week. \nYouth ages 25 and under. \nIf you’re interested in participating\, please send an email to miranda.mitchell@eelriverbar.ca or cathy.pictou@eelriverbar.ca. \nWe are also looking for volunteers!
URL:https://ugpi-ganjig.ca/event/ugpiganjig-variety-show/
LOCATION:Aboriginal Heritage Garden
CATEGORIES:Community
ATTACH;FMTTYPE=image/jpeg:https://ugpi-ganjig.ca/wp-content/uploads/2025/10/558147823_10163493016104382_6044614581642639451_n.jpg
END:VEVENT
END:VCALENDAR