BEGIN:VCALENDAR
VERSION:2.0
PRODID:-//Ugpi&#039;Ganjig - ECPv5.16.4//NONSGML v1.0//EN
CALSCALE:GREGORIAN
METHOD:PUBLISH
X-WR-CALNAME:Ugpi&#039;Ganjig
X-ORIGINAL-URL:https://ugpi-ganjig.ca
X-WR-CALDESC:Events for Ugpi&#039;Ganjig
BEGIN:VTIMEZONE
TZID:America/Halifax
BEGIN:DAYLIGHT
TZOFFSETFROM:-0400
TZOFFSETTO:-0300
TZNAME:ADT
DTSTART:20250309T060000
END:DAYLIGHT
BEGIN:STANDARD
TZOFFSETFROM:-0300
TZOFFSETTO:-0400
TZNAME:AST
DTSTART:20251102T050000
END:STANDARD
END:VTIMEZONE
BEGIN:VEVENT
DTSTART;TZID=America/Halifax:20251119T110000
DTEND;TZID=America/Halifax:20251119T130000
DTSTAMP:20260421T081713
CREATED:20251110T155107Z
LAST-MODIFIED:20251110T155107Z
UID:225658-1763550000-1763557200@ugpi-ganjig.ca
SUMMARY:Wind Turbines and Renewable Energy: Community Dialogue Tour
DESCRIPTION:Wind Turbines and Renewable Energy\n\nJoin the conversation! Share your ideas\, get informed\, and ask your questions.\n\nThe members of the Northern Energy Alliance warmly invite you to take part in a discussion about the development of renewable energy in our region.\n\nCome meet the members of the Alliance\, learn about our approach\, and share your ideas and concerns.\n\nTogether\, let’s identify the social acceptability conditions needed to ensure that future projects are developed by us\, for us — on our terms!
URL:https://ugpi-ganjig.ca/event/wind-turbines-and-renewable-energy-community-dialogue-tour/
CATEGORIES:Community
ATTACH;FMTTYPE=image/jpeg:https://ugpi-ganjig.ca/wp-content/uploads/2025/11/577070181_1230315362466748_3883089681837889822_n.jpg
END:VEVENT
BEGIN:VEVENT
DTSTART;TZID=America/Halifax:20251119T180000
DTEND;TZID=America/Halifax:20251119T180000
DTSTAMP:20260421T081713
CREATED:20250908T123806Z
LAST-MODIFIED:20250908T123806Z
UID:219388-1763575200-1763575200@ugpi-ganjig.ca
SUMMARY:Book Club – New Members Welcome!
DESCRIPTION:
URL:https://ugpi-ganjig.ca/event/book-club-new-members-welcome-3/
LOCATION:Health Centre
CATEGORIES:Community
ATTACH;FMTTYPE=image/jpeg:https://ugpi-ganjig.ca/wp-content/uploads/2025/09/540591643_10100383224497985_3448689098234634016_n.jpg
END:VEVENT
END:VCALENDAR