BEGIN:VCALENDAR
VERSION:2.0
PRODID:-//Ugpi&#039;Ganjig - ECPv5.16.4//NONSGML v1.0//EN
CALSCALE:GREGORIAN
METHOD:PUBLISH
X-WR-CALNAME:Ugpi&#039;Ganjig
X-ORIGINAL-URL:https://ugpi-ganjig.ca
X-WR-CALDESC:Events for Ugpi&#039;Ganjig
BEGIN:VTIMEZONE
TZID:America/Halifax
BEGIN:DAYLIGHT
TZOFFSETFROM:-0400
TZOFFSETTO:-0300
TZNAME:ADT
DTSTART:20260308T060000
END:DAYLIGHT
BEGIN:STANDARD
TZOFFSETFROM:-0300
TZOFFSETTO:-0400
TZNAME:AST
DTSTART:20261101T050000
END:STANDARD
END:VTIMEZONE
BEGIN:VEVENT
DTSTART;TZID=America/Halifax:20260330T170000
DTEND;TZID=America/Halifax:20260330T170000
DTSTAMP:20260423T230433
CREATED:20260330T140331Z
LAST-MODIFIED:20260330T140331Z
UID:239479-1774890000-1774890000@ugpi-ganjig.ca
SUMMARY:Community Meeting
DESCRIPTION:📣 Community Meeting – Today at 5 PM \nCommunity members of Ugpi’ganjig First Nation are invited to join us today for an important community meeting. \n🗓️ Today\n🕔 5:00 PM\n📍 Elders Room \n🍴Supper will be included. \nThis is a great opportunity to stay informed\, ask questions\, and share your voice on matters that impact our community. Your input helps guide decisions and strengthens our path forward together. \nWe encourage everyone to attend. See you there!
URL:https://ugpi-ganjig.ca/event/community-meeting-mar30/
LOCATION:Elder’s Room
CATEGORIES:Community
ATTACH;FMTTYPE=image/png:https://ugpi-ganjig.ca/wp-content/uploads/2026/03/Ugpiganjig-Admin-11.png
END:VEVENT
BEGIN:VEVENT
DTSTART;TZID=America/Halifax:20260415T180000
DTEND;TZID=America/Halifax:20260415T180000
DTSTAMP:20260423T230433
CREATED:20250908T124507Z
LAST-MODIFIED:20250908T124507Z
UID:219393-1776276000-1776276000@ugpi-ganjig.ca
SUMMARY:Book Club – New Members Welcome!
DESCRIPTION:
URL:https://ugpi-ganjig.ca/event/book-club-new-members-welcome-8/
LOCATION:Health Centre
CATEGORIES:Community
ATTACH;FMTTYPE=image/jpeg:https://ugpi-ganjig.ca/wp-content/uploads/2025/09/540591643_10100383224497985_3448689098234634016_n.jpg
END:VEVENT
BEGIN:VEVENT
DTSTART;TZID=America/Halifax:20260417T093000
DTEND;TZID=America/Halifax:20260417T120000
DTSTAMP:20260423T230433
CREATED:20260413T150439Z
LAST-MODIFIED:20260413T150439Z
UID:240874-1776418200-1776427200@ugpi-ganjig.ca
SUMMARY:Canada Revenue Agency at Ugpi'ganjig First Nation
DESCRIPTION:Have questions for CRA? \nAlongside our upcoming tax clinic\, CRA agents will be on-site to help answer your questions and assist with applications. \n🗓 April 17\n⏰ 9:30 AM – 12:00 PM\n📍 Kitpu Room \nWhether you need support with your taxes or guidance on CRA services\, this is a great opportunity to get one-on-one help. \n✅ All are welcome! \n 
URL:https://ugpi-ganjig.ca/event/canada-revenue-agency-at-ugpiganjig-first-nation/
LOCATION:Band Hall
CATEGORIES:Community
ATTACH;FMTTYPE=image/png:https://ugpi-ganjig.ca/wp-content/uploads/2026/04/UgpiGanjig-FN-April-17-2026.png
END:VEVENT
BEGIN:VEVENT
DTSTART;TZID=America/Halifax:20260430T170000
DTEND;TZID=America/Halifax:20260430T170000
DTSTAMP:20260423T230433
CREATED:20260402T150843Z
LAST-MODIFIED:20260402T150843Z
UID:239792-1777568400-1777568400@ugpi-ganjig.ca
SUMMARY:Community Meeting
DESCRIPTION:📣 Community Meeting – April 30 \nCommunity members of Ugpi’ganjig First Nation are invited to attend an upcoming community meeting. \n🗓️ April 30\n🕔 5:00 PM\n📍 Elders Room \nThank you to everyone who attended our last meeting! Your participation and voices are truly appreciated. \nJoin us to hear updates\, ask questions\, and continue the conversation. Your input helps guide our community forward.
URL:https://ugpi-ganjig.ca/event/community-meeting-apr30/
LOCATION:Elder’s Room
CATEGORIES:Community
ATTACH;FMTTYPE=image/png:https://ugpi-ganjig.ca/wp-content/uploads/2026/04/24.png
END:VEVENT
END:VCALENDAR